BEGIN:VCALENDAR
METHOD:PUBLISH
PRODID:-//LogicWorks GmbH//NONSGML Contentory//EN
VERSION:2.0
CALSCALE:GREGORIAN
X-MS-OLK-FORCEINSPECTOROPEN:TRUE
BEGIN:VEVENT
DTSTAMP:20260423T133431Z
SUMMARY:FAME-EcoSys: Future of the European Advanced Materials Ecosystem
DESCRIPTION:Dieser Workshop ermöglicht Teilnehmern einen tiefen Einblick in das Ökos
 ystem für fortschrittliche Materialien\, wobei speziell Erfahrungen von d
 er Iberischen Halbinsel zugrunde genommen werden.
LOCATION:University of Aveiro
CREATED:20251009T150913
LAST-MODIFIED:20251009T160924
DTSTART;VALUE=DATE:20251127T000000
DTEND;VALUE=DATE:20251128T235959
UID:sn_1823_date_0@logic-works.net
END:VEVENT
END:VCALENDAR