BEGIN:VCALENDAR
METHOD:PUBLISH
PRODID:-//LogicWorks GmbH//NONSGML Contentory//EN
VERSION:2.0
CALSCALE:GREGORIAN
X-MS-OLK-FORCEINSPECTOROPEN:TRUE
BEGIN:VEVENT
DTSTAMP:20260423T122631Z
SUMMARY:European Research and Innovation Days 2025
DESCRIPTION:Die Europäische Kommission lädt zur sechsten Ausgabe der European Resear
 ch & Innovation (R&I) Days unter dem Motto "Gemeinsam auf dem Weg zu einer
  Forschungs- und Innovationsunion" ein.
LOCATION:Square
CREATED:20250901T132031
LAST-MODIFIED:20250901T141852
DTSTART;VALUE=DATE:20250916T000000
DTEND;VALUE=DATE:20250917T235959
UID:sn_1748_date_0@logic-works.net
END:VEVENT
END:VCALENDAR