BEGIN:VCALENDAR
METHOD:PUBLISH
PRODID:-//LogicWorks GmbH//NONSGML Contentory//EN
VERSION:2.0
CALSCALE:GREGORIAN
X-MS-OLK-FORCEINSPECTOROPEN:TRUE
BEGIN:VEVENT
DTSTAMP:20260422T031012Z
SUMMARY:European Quantum Technologies Conference (EQTC)
DESCRIPTION:Die European Quantum Technologies Conference (EQTC) 2024\, organisiert vom
  Portuguese Quantum Institute (PQI)\, findet vom 18. bis 20. November 2024
  in Lissabon statt. Die Teilnehmer werden die neuesten Entwicklungen in de
 r Quanteninformationswissenschaft und -technologie kennenlernen.
LOCATION:Culturgest
CREATED:20240909T171116
LAST-MODIFIED:20240909T171200
DTSTART;VALUE=DATE:20241118T090000
DTEND;VALUE=DATE:20241120T170000
UID:sn_1233_date_0@logic-works.net
END:VEVENT
END:VCALENDAR