BEGIN:VCALENDAR
METHOD:PUBLISH
PRODID:-//LogicWorks GmbH//NONSGML Contentory//EN
VERSION:2.0
CALSCALE:GREGORIAN
X-MS-OLK-FORCEINSPECTOROPEN:TRUE
BEGIN:VEVENT
DTSTAMP:20260423T183836Z
SUMMARY:European leadership and digital game-changers of the manufacturing industr
 y
DESCRIPTION:Die EU-Initiative I4MS organisiert am 19. Oktober 2022 eine hybride Verans
 taltung für die europäische Fertigungsindustrie. Zusätzlich ist die Ver
 netzung der Teilnehmenden vom 17. bis 21. Oktober 2022 über die Veranstal
 tungsseite möglich.
LOCATION:Hybrid (Online und vor Ort)
CREATED:20221004T133532
LAST-MODIFIED:20221004T133532
DTSTART;VALUE=DATE:20221017T090000
DTEND;VALUE=DATE:20221021T180000
UID:sn_597_date_0@logic-works.net
END:VEVENT
END:VCALENDAR