BEGIN:VCALENDAR
METHOD:PUBLISH
PRODID:-//LogicWorks GmbH//NONSGML Contentory//EN
VERSION:2.0
CALSCALE:GREGORIAN
X-MS-OLK-FORCEINSPECTOROPEN:TRUE
BEGIN:VEVENT
DTSTAMP:20260423T124111Z
SUMMARY:ECCC Info Day
DESCRIPTION:Das European Cybersecurity Competence Centre (ECCC) veranstaltet am 9. Jul
 i 2024 in Brüssel einen Info Day. Die Teilnehmenden können dort mehr üb
 er die neuen Finanzierungsmöglichkeiten im Bereich Cybersicherheit unter 
 dem Digital Europe Programme erfahren.
LOCATION:Le Bouche à Oreille
CREATED:20240627T172746
LAST-MODIFIED:20240628T081619
DTSTART;VALUE=DATE:20240709T090000
DTEND;VALUE=DATE:20240709T170000
UID:sn_1136_date_0@logic-works.net
END:VEVENT
END:VCALENDAR