BEGIN:VCALENDAR
METHOD:PUBLISH
PRODID:-//LogicWorks GmbH//NONSGML Contentory//EN
VERSION:2.0
CALSCALE:GREGORIAN
X-MS-OLK-FORCEINSPECTOROPEN:TRUE
BEGIN:VEVENT
DTSTAMP:20260423T135926Z
SUMMARY:European Conference on EDGE AI Technologies and Applications (EEAI)
DESCRIPTION:Vom 21. bis 23. Oktober laden mehrere EU-Projekte zur gemeinsamen EEAI-Kon
 ferenz nach Cagliari ein.
LOCATION:Cagliari
CREATED:20240729T150233
LAST-MODIFIED:20240729T152639
DTSTART;VALUE=DATE:20241021T000000
DTEND;VALUE=DATE:20241023T235959
UID:sn_1179_date_0@logic-works.net
END:VEVENT
END:VCALENDAR