BEGIN:VCALENDAR
METHOD:PUBLISH
PRODID:-//LogicWorks GmbH//NONSGML Contentory//EN
VERSION:2.0
CALSCALE:GREGORIAN
X-MS-OLK-FORCEINSPECTOROPEN:TRUE
BEGIN:VEVENT
DTSTAMP:20260423T122304Z
SUMMARY:The European Manufacturing Conference 2024
DESCRIPTION:Die zweite Ausgabe der European Manufacturing Conference findet am 24. und
  25. September 2024 in Brüssel statt.
LOCATION:Event Lounge
CREATED:20240429T132941
LAST-MODIFIED:20240607T113436
DTSTART;VALUE=DATE:20240924T090000
DTEND;VALUE=DATE:20240925T160000
UID:sn_1004_date_0@logic-works.net
END:VEVENT
END:VCALENDAR