BEGIN:VCALENDAR
METHOD:PUBLISH
PRODID:-//LogicWorks GmbH//NONSGML Contentory//EN
VERSION:2.0
CALSCALE:GREGORIAN
X-MS-OLK-FORCEINSPECTOROPEN:TRUE
BEGIN:VEVENT
DTSTAMP:20260423T182314Z
SUMMARY:Horizon Europe - EUIndTech 2025 Brokerage Event
DESCRIPTION:Das NKS-Netzwerk NCP4Industry und das Enterprise Europe Network organisier
 en ein Brokerage Event im Rahmen der IndTech 2025 Konferenz. Die Vernetzun
 gsveranstaltung findet am 3. Juni 2025 in Krakau statt und beinhaltet Auss
 chreibungen aus Cluster 4\, Cluster 5 und Cluster 6 sowie dem Neuen EuropÃ
 ¤ischen Bauhaus.
LOCATION:Auditorium Maximum UJ\, 2nd floor\, Exhibition Hall
CREATED:20250425T144827
LAST-MODIFIED:20250425T150152
DTSTART;VALUE=DATE:20250603T090000
DTEND;VALUE=DATE:20250603T153000
UID:sn_1549_date_0@logic-works.net
END:VEVENT
END:VCALENDAR