BEGIN:VCALENDAR
METHOD:PUBLISH
PRODID:-//LogicWorks GmbH//NONSGML Contentory//EN
VERSION:2.0
CALSCALE:GREGORIAN
X-MS-OLK-FORCEINSPECTOROPEN:TRUE
BEGIN:VEVENT
DTSTAMP:20260423T164558Z
SUMMARY:EU Industry Days
DESCRIPTION:Die EU-Kommission veranstaltet vom 8. bis zum 11. Februar 2022 die EU Indu
 stry Days in einem hybriden Format.
LOCATION:online
CREATED:20220117T125735
LAST-MODIFIED:20220117T144329
DTSTART;VALUE=DATE:20220208T100000
DTEND;VALUE=DATE:20220211T163000
UID:sn_377_date_0@logic-works.net
END:VEVENT
END:VCALENDAR