BEGIN:VCALENDAR
METHOD:PUBLISH
PRODID:-//LogicWorks GmbH//NONSGML Contentory//EN
VERSION:2.0
CALSCALE:GREGORIAN
X-MS-OLK-FORCEINSPECTOROPEN:TRUE
BEGIN:VEVENT
DTSTAMP:20260426T042603Z
SUMMARY:EU funding for collaborative research – the basics
DESCRIPTION:Die KoWi veranstaltet am 31. Januar 2023 ein 90-minütiges Einstiegssemina
 r zur EU-Förderung für Verbundprojekte in den Clustern des Pfeilers II i
 n Horizont Europa in englischer Sprache.
LOCATION:Online
CREATED:20230106T103711
LAST-MODIFIED:20230106T103711
DTSTART;VALUE=DATE:20230131T100000
DTEND;VALUE=DATE:20230131T113000
UID:sn_677_date_0@logic-works.net
END:VEVENT
END:VCALENDAR