BEGIN:VCALENDAR
METHOD:PUBLISH
PRODID:-//LogicWorks GmbH//NONSGML Contentory//EN
VERSION:2.0
CALSCALE:GREGORIAN
X-MS-OLK-FORCEINSPECTOROPEN:TRUE
BEGIN:VEVENT
DTSTAMP:20260423T183015Z
SUMMARY:EU-Fördermöglichkeiten für Kommunen im Bereich Digitales und Cybersiche
 rheit
DESCRIPTION:Das EU-Förderprogramm Digitales Europa sowie das Forschungsrahmenprogramm
  Horizont Europa bieten Kommunen gezielte Unterstützung bei der Umsetzung
  innovativer Projekte in den Bereichen Digitalisierung und Cybersicherheit
 .
LOCATION:online
CREATED:20250415T183137
LAST-MODIFIED:20250416T091326
DTSTART;VALUE=DATE:20250514T100000
DTEND;VALUE=DATE:20250514T113000
UID:sn_1536_date_0@logic-works.net
END:VEVENT
END:VCALENDAR