BEGIN:VCALENDAR
METHOD:PUBLISH
PRODID:-//LogicWorks GmbH//NONSGML Contentory//EN
VERSION:2.0
CALSCALE:GREGORIAN
X-MS-OLK-FORCEINSPECTOROPEN:TRUE
BEGIN:VEVENT
DTSTAMP:20260423T011140Z
SUMMARY:EU Brokerage Event on industrial KET in Horizon Europe
DESCRIPTION:Die Nationalen Kontaktstellen aus Deutschland und Frankreich sowie das Ent
 erprise Europe Network (EEN) Rheinland-Pfalz / Saarland und das Enterprise
  Europe Network Grand Est Plus (Grand E-Nov) organisieren in diesem Jahr z
 um neunten Mal ein gemeinsames Brokerage Event\, dieses Mal unter dem Tite
 l „EU Brokerage Event on industrial KET in Horizon Europe“.
LOCATION:Palais de la Musique et des Congrès
CREATED:20220920T142100
LAST-MODIFIED:20220920T142100
DTSTART;VALUE=DATE:20221110T090000
DTEND;VALUE=DATE:20221110T180000
UID:sn_590_date_0@logic-works.net
END:VEVENT
END:VCALENDAR