BEGIN:VCALENDAR
METHOD:PUBLISH
PRODID:-//LogicWorks GmbH//NONSGML Contentory//EN
VERSION:2.0
CALSCALE:GREGORIAN
X-MS-OLK-FORCEINSPECTOROPEN:TRUE
BEGIN:VEVENT
DTSTAMP:20260423T164527Z
SUMMARY:ESOF 2024 – Life changes science
DESCRIPTION:Das EuroScience Open Forum (ESOF) 2024 findet vom 12. – 15. Juni 2024 im
  polnischen Kattowitz statt.
LOCATION:International Congress Centre (MCK)
CREATED:20240429T132624
LAST-MODIFIED:20240429T133849
DTSTART;VALUE=DATE:20240612T090000
DTEND;VALUE=DATE:20240615T180000
UID:sn_1002_date_0@logic-works.net
END:VEVENT
END:VCALENDAR