BEGIN:VCALENDAR
METHOD:PUBLISH
PRODID:-//LogicWorks GmbH//NONSGML Contentory//EN
VERSION:2.0
CALSCALE:GREGORIAN
X-MS-OLK-FORCEINSPECTOROPEN:TRUE
BEGIN:VEVENT
DTSTAMP:20260423T122005Z
SUMMARY:Ein erfolgreicher Antrag in Horizont Europa: Wissenschaftlich-technische E
 xzellenz ist der Schlüssel\, aber vergessen Sie nicht die anderen Aspekte
DESCRIPTION:Die Europäische Kommission veranstaltet am 21. April 2021 den zweiten Tei
 l der Informationsreihe zur Vorbereitung eines erfolgreichen Antrags in Ho
 rizont Europa.
LOCATION:online
CREATED:20210414T122005
LAST-MODIFIED:20210414T125216
DTSTART;VALUE=DATE:20210421T100000
DTEND;VALUE=DATE:20210421T123000
UID:sn_209_date_0@logic-works.net
END:VEVENT
END:VCALENDAR