BEGIN:VCALENDAR
METHOD:PUBLISH
PRODID:-//LogicWorks GmbH//NONSGML Contentory//EN
VERSION:2.0
CALSCALE:GREGORIAN
X-MS-OLK-FORCEINSPECTOROPEN:TRUE
BEGIN:VEVENT
DTSTAMP:20260423T121334Z
SUMMARY:European Quantum Technologies Conference 2025 (EQTC 2025)
DESCRIPTION:Vom 10. bis 12. November 2025 bringt die European Quantum Technologies Con
 ference (EQTC 2025) Europas Quanten-Community in Kopenhagen zusammen. Als 
 offizielles Event der dänischen EU-Ratspräsidentschaft vereint die Konfe
 renz Forschende\, Industrie und Politik\, um aktuelle Durchbrüche\, Anwen
 dungen und Strategien im Quantenbereich zu diskutieren.
LOCATION:Øksnehallen
CREATED:20250715T110426
LAST-MODIFIED:20250715T112137
DTSTART;VALUE=DATE:20251110T090000
DTEND;VALUE=DATE:20251112T160000
UID:sn_1670_date_0@logic-works.net
END:VEVENT
END:VCALENDAR