BEGIN:VCALENDAR
METHOD:PUBLISH
PRODID:-//LogicWorks GmbH//NONSGML Contentory//EN
VERSION:2.0
CALSCALE:GREGORIAN
X-MS-OLK-FORCEINSPECTOROPEN:TRUE
BEGIN:VEVENT
DTSTAMP:20260423T121455Z
SUMMARY:Workshop „Horizon Europe und weitere internationale Förderprogramme - I
 hre Unterstützung vor Ort“
DESCRIPTION:Das Enterprise Europe Network Thüringen bietet in Kooperation mit den Nat
 ionalen Kontaktstellen einen Workshop zum EU-Rahmenprogramm\r\n„Horizont
  Europa“ mit Schwerpunkten auf Digitalisierung\, Industrie\, Weltraum\, 
 Gesundheit und EIC Accelerator an.
LOCATION:Technologie- und Innovationspark Jena
CREATED:20230817T132332
LAST-MODIFIED:20230817T133935
DTSTART;VALUE=DATE:20230906T130000
DTEND;VALUE=DATE:20230906T160000
UID:sn_813_date_0@logic-works.net
END:VEVENT
END:VCALENDAR