BEGIN:VCALENDAR
METHOD:PUBLISH
PRODID:-//LogicWorks GmbH//NONSGML Contentory//EN
VERSION:2.0
CALSCALE:GREGORIAN
X-MS-OLK-FORCEINSPECTOROPEN:TRUE
BEGIN:VEVENT
DTSTAMP:20260422T183536Z
SUMMARY:ECS Brokerage Event 2023
DESCRIPTION:Das diesjährige Electronics Components and Systems (ECS) Brokerage Event 
 in Brüssel richtet sich an alle\, die sich für die aktuellen KDT Calls u
 nd Informationen zum neuen Chips JU interessieren.
LOCATION:Hotel Le Plaza Brussels
CREATED:20230111T124425
LAST-MODIFIED:20230111T125349
DTSTART;VALUE=DATE:20230207T083000
DTEND;VALUE=DATE:20230208T160000
UID:sn_683_date_0@logic-works.net
END:VEVENT
END:VCALENDAR