BEGIN:VCALENDAR
METHOD:PUBLISH
PRODID:-//LogicWorks GmbH//NONSGML Contentory//EN
VERSION:2.0
CALSCALE:GREGORIAN
X-MS-OLK-FORCEINSPECTOROPEN:TRUE
BEGIN:VEVENT
DTSTAMP:20260423T122813Z
SUMMARY:ECCC Info Day in Berlin – aktuelle Fördermöglichkeiten für Cybersiche
 rheitsprojekte
DESCRIPTION:Am 2. September 2025 laden das Europäische Kompetenzzentrum für Cybersic
 herheit (ECCC) und das Nationale Koordinierungszentrum für Cybersicherhei
 t (NKCS) zum „ECCC Info Day“ auf den GovTech Campus Berlin ein. Im Fok
 us stehen aktuelle europäische Förderprogramme für Forschungs- und Inno
 vationsprojekte in der Cybersicherheit.
LOCATION:GovTech Campus
CREATED:20250722T153102
LAST-MODIFIED:20250723T080245
DTSTART;VALUE=DATE:20250902T090000
DTEND;VALUE=DATE:20250902T170000
UID:sn_1702_date_0@logic-works.net
END:VEVENT
END:VCALENDAR