BEGIN:VCALENDAR
METHOD:PUBLISH
PRODID:-//LogicWorks GmbH//NONSGML Contentory//EN
VERSION:2.0
CALSCALE:GREGORIAN
X-MS-OLK-FORCEINSPECTOROPEN:TRUE
BEGIN:VEVENT
DTSTAMP:20260423T121106Z
SUMMARY:ECCC-Infotag: Side-Event auf der „Research to Reality“-Konferenz
DESCRIPTION:Am 6. Februar wird das ECCC einen Infotag veranstalten\, um das Arbeitspro
 gramm von „Digitales Europa“ (DEP) sowie die neuesten und derzeit offe
 nen Ausschreibungen im Bereich Cybersicherheit zu präsentieren.
LOCATION:The Egg
CREATED:20240129T122502
LAST-MODIFIED:20240129T145810
DTSTART;VALUE=DATE:20240206T130000
DTEND;VALUE=DATE:20240206T140000
UID:sn_921_date_0@logic-works.net
END:VEVENT
END:VCALENDAR