BEGIN:VCALENDAR
METHOD:PUBLISH
PRODID:-//LogicWorks GmbH//NONSGML Contentory//EN
VERSION:2.0
CALSCALE:GREGORIAN
X-MS-OLK-FORCEINSPECTOROPEN:TRUE
BEGIN:VEVENT
DTSTAMP:20260423T120920Z
SUMMARY:European Big Data Value Forum (EBDVF) 2025
DESCRIPTION:Die diesjährige Ausgabe des EBDVF\, organisiert von der Big Data Value As
 sociation\, findet vom 12. bis 14. November in Kopenhagen statt.
LOCATION:Kopenhagen
CREATED:20250206T134143
LAST-MODIFIED:20250206T172204
DTSTART;VALUE=DATE:20251112T000000
DTEND;VALUE=DATE:20251114T235959
UID:sn_1430_date_0@logic-works.net
END:VEVENT
END:VCALENDAR