BEGIN:VCALENDAR
METHOD:PUBLISH
PRODID:-//LogicWorks GmbH//NONSGML Contentory//EN
VERSION:2.0
CALSCALE:GREGORIAN
X-MS-OLK-FORCEINSPECTOROPEN:TRUE
BEGIN:VEVENT
DTSTAMP:20260422T193743Z
SUMMARY:Discovering AMI2030 – The EU Advanced Materials Initiative
DESCRIPTION:Das NCP4Industry Netzwerk-Projekt lädt zur Veranstaltung „Discovering A
 MI2030 – The EU Advanced Materials Initiative“ am 16. Dezember 2022 ab
  10:00 Uhr ein.
LOCATION:Online
CREATED:20221122T094801
LAST-MODIFIED:20221122T094809
DTSTART;VALUE=DATE:20221216T100000
DTEND;VALUE=DATE:20221216T120000
UID:sn_639_date_0@logic-works.net
END:VEVENT
END:VCALENDAR