BEGIN:VCALENDAR
METHOD:PUBLISH
PRODID:-//LogicWorks GmbH//NONSGML Contentory//EN
VERSION:2.0
CALSCALE:GREGORIAN
X-MS-OLK-FORCEINSPECTOROPEN:TRUE
BEGIN:VEVENT
DTSTAMP:20260422T160555Z
SUMMARY:Online-Informationsveranstaltung zu Ausschreibungsthemen von Digitalisieru
 ng\, Industrie und Gesundheit in Horizont Europa
DESCRIPTION:Expertinnen und Experten der NKS Digitale und Industrielle Technologien so
 wie der NKS Gesundheit informieren Sie in der Veranstaltung zu geplanten A
 usschreibungsthemen 2023 – 2024 des EU-Rahmenprogramms Horizont Europa\,
  die gleichzeitig einen starken Bezug zu Digitalisierung\, Industrie und G
 esundheit aufweisen.
LOCATION:online
CREATED:20221025T142027
LAST-MODIFIED:20221026T070907
DTSTART;VALUE=DATE:20221209T100000
DTEND;VALUE=DATE:20221209T113000
UID:sn_623_date_0@logic-works.net
END:VEVENT
END:VCALENDAR