BEGIN:VCALENDAR
METHOD:PUBLISH
PRODID:-//LogicWorks GmbH//NONSGML Contentory//EN
VERSION:2.0
CALSCALE:GREGORIAN
X-MS-OLK-FORCEINSPECTOROPEN:TRUE
BEGIN:VEVENT
DTSTAMP:20260423T164502Z
SUMMARY:DigitALL Public conference
DESCRIPTION:Konferenz der EU Kommission zu CEF & ISA² und zum „Digital Europe Progr
 amm“
LOCATION:Online
CREATED:20210416T104846
LAST-MODIFIED:20210416T104846
DTSTART;VALUE=DATE:20210420T000000
DTEND;VALUE=DATE:20210422T235959
UID:sn_212_date_0@logic-works.net
END:VEVENT
END:VCALENDAR