BEGIN:VCALENDAR
METHOD:PUBLISH
PRODID:-//LogicWorks GmbH//NONSGML Contentory//EN
VERSION:2.0
CALSCALE:GREGORIAN
X-MS-OLK-FORCEINSPECTOROPEN:TRUE
BEGIN:VEVENT
DTSTAMP:20260425T235710Z
SUMMARY:Deutsch-Niederländische Expertenveranstaltung zu KI
DESCRIPTION:Am 24. März 2021 findet eine Veranstaltung zu künstlicher Intelligenz st
 att\, die sich an deutsche und niederländische Experten richtet.
LOCATION:online
CREATED:20210301T163619
LAST-MODIFIED:20210301T163619
DTSTART;VALUE=DATE:20210324T100000
DTEND;VALUE=DATE:20210324T170000
UID:sn_178_date_0@logic-works.net
END:VEVENT
END:VCALENDAR