BEGIN:VCALENDAR
METHOD:PUBLISH
PRODID:-//LogicWorks GmbH//NONSGML Contentory//EN
VERSION:2.0
CALSCALE:GREGORIAN
X-MS-OLK-FORCEINSPECTOROPEN:TRUE
BEGIN:VEVENT
DTSTAMP:20260423T165502Z
SUMMARY:Online Seminar Destination 5: Strategic autonomy in developing\, deploying
  and using global space based infrastructures
DESCRIPTION:Die Nationalen Kontaktstellen fÃ¼r Digitale und Industrielle Technologien 
 und fÃ¼r Raumfahrt organisieren ab Ende November 2020 eine Online-Seminarr
 eihe zum aktuellen Stand in Cluster 4. Die EU-Kommission hat dazu sechs â€
 žDestinationsâ€œ gruppiert. Diese werden nacheinander in eineinhalbstÃ¼ndi
 gen Seminarterminen angesprochen.
LOCATION:Online
CREATED:20201127T084915
LAST-MODIFIED:20210201T155710
DTSTART;VALUE=DATE:20201216T103000
DTEND;VALUE=DATE:20201216T120000
UID:sn_127_date_0@logic-works.net
END:VEVENT
END:VCALENDAR