BEGIN:VCALENDAR
METHOD:PUBLISH
PRODID:-//LogicWorks GmbH//NONSGML Contentory//EN
VERSION:2.0
CALSCALE:GREGORIAN
X-MS-OLK-FORCEINSPECTOROPEN:TRUE
BEGIN:VEVENT
DTSTAMP:20260423T135711Z
SUMMARY:Der DESCA Musterkonsortialvertrag (DESCA model consortium agreement) in Ho
 rizont Europa
DESCRIPTION:Die NKS Recht und Finanzen stellt am 24. Februar 2022 den neuen DESCA-Must
 erkonsortialvertrag vor.
LOCATION:Online
CREATED:20220214T154244
LAST-MODIFIED:20220214T154244
DTSTART;VALUE=DATE:20220224T140000
DTEND;VALUE=DATE:20220224T150000
UID:sn_405_date_0@logic-works.net
END:VEVENT
END:VCALENDAR