BEGIN:VCALENDAR
METHOD:PUBLISH
PRODID:-//LogicWorks GmbH//NONSGML Contentory//EN
VERSION:2.0
CALSCALE:GREGORIAN
X-MS-OLK-FORCEINSPECTOROPEN:TRUE
BEGIN:VEVENT
DTSTAMP:20260423T133212Z
SUMMARY:Data Spaces Symposium 2025
DESCRIPTION:Das Data Spaces Support Centre und die Data Spaces Business Alliance laden
  vom 11. bis 12. März zum jährlichen Fachsymposium nach Warschau ein.
LOCATION:Hilton\, Warschau
CREATED:20250106T153133
LAST-MODIFIED:20250106T161335
DTSTART;VALUE=DATE:20250311T090000
DTEND;VALUE=DATE:20250312T170000
UID:sn_1365_date_0@logic-works.net
END:VEVENT
END:VCALENDAR