BEGIN:VCALENDAR
METHOD:PUBLISH
PRODID:-//LogicWorks GmbH//NONSGML Contentory//EN
VERSION:2.0
CALSCALE:GREGORIAN
X-MS-OLK-FORCEINSPECTOROPEN:TRUE
BEGIN:VEVENT
DTSTAMP:20260419T185116Z
SUMMARY:Data Spaces Symposium
DESCRIPTION:Das Data Spaces Support Centre und die Data Spaces Business Alliance laden
  vom 12. bis 14. März zu einem Fachsymposium ins Darmstadtium ein.
LOCATION:Darmstadtium
CREATED:20240206T103222
LAST-MODIFIED:20240206T125906
DTSTART;VALUE=DATE:20240312T000000
DTEND;VALUE=DATE:20240314T235959
UID:sn_930_date_0@logic-works.net
END:VEVENT
END:VCALENDAR