BEGIN:VCALENDAR
METHOD:PUBLISH
PRODID:-//LogicWorks GmbH//NONSGML Contentory//EN
VERSION:2.0
CALSCALE:GREGORIAN
X-MS-OLK-FORCEINSPECTOROPEN:TRUE
BEGIN:VEVENT
DTSTAMP:20260423T121251Z
SUMMARY:CODE-Jahrestagung 2025 - München
DESCRIPTION:NKCS auf der CODE-Jahrestagung 2025 - München 
LOCATION:Universität der Bundeswehr München
CREATED:20250213T111604
LAST-MODIFIED:20250213T124420
DTSTART;VALUE=DATE:20250708T090000
DTEND;VALUE=DATE:20250709T170000
UID:sn_1445_date_0@logic-works.net
END:VEVENT
END:VCALENDAR