BEGIN:VCALENDAR
METHOD:PUBLISH
PRODID:-//LogicWorks GmbH//NONSGML Contentory//EN
VERSION:2.0
CALSCALE:GREGORIAN
X-MS-OLK-FORCEINSPECTOROPEN:TRUE
BEGIN:VEVENT
DTSTAMP:20260420T105543Z
SUMMARY:Online-Seminar zu den Inhalten von Cluster 4 Digital\, Industry and Space
  in Horizont Europa der NKS DIT - - Das Online-Seminar ist ausgebucht -
DESCRIPTION:Die NKS Digitale und Industrielle Technologien veranstaltet ein Online-Sem
 inar zu den Inhalten von Cluster 4  Digital\, Industry and Space in Hori
 zont Europa am 25.02.2021 von 9:00 - 10:30 Uhr.
LOCATION:Online
CREATED:20210121T115325
LAST-MODIFIED:20210223T100913
DTSTART;VALUE=DATE:20210225T090000
DTEND;VALUE=DATE:20210225T103000
UID:sn_147_date_0@logic-works.net
END:VEVENT
END:VCALENDAR