BEGIN:VCALENDAR
METHOD:PUBLISH
PRODID:-//LogicWorks GmbH//NONSGML Contentory//EN
VERSION:2.0
CALSCALE:GREGORIAN
X-MS-OLK-FORCEINSPECTOROPEN:TRUE
BEGIN:VEVENT
DTSTAMP:20260425T214917Z
SUMMARY:Cluster 4 - Digital\, Industry & Space Info Days
DESCRIPTION:Die Europäische Kommission veranstaltet vom 29.11. – 01.12.2021 Informa
 tionstage zu Cluster 4 (Digitalisierung\, Industrie und Weltraum) in Horiz
 ont Europa.
LOCATION:online
CREATED:20211110T091901
LAST-MODIFIED:20211110T091906
DTSTART;VALUE=DATE:20211129T090000
DTEND;VALUE=DATE:20211201T180000
UID:sn_324_date_0@logic-works.net
END:VEVENT
END:VCALENDAR