BEGIN:VCALENDAR
METHOD:PUBLISH
PRODID:-//LogicWorks GmbH//NONSGML Contentory//EN
VERSION:2.0
CALSCALE:GREGORIAN
X-MS-OLK-FORCEINSPECTOROPEN:TRUE
BEGIN:VEVENT
DTSTAMP:20260423T121306Z
SUMMARY:Cleantech Conference 2024
DESCRIPTION:Dieses Jahr findet die Cleantech-Konferenz am 11. April 2024 statt\, sowoh
 l im Charlemagne-Gebäude\, Rue de la Loi 170 (Brüssel) als auch online\,
  sodass jeder von überall aus teilnehmen kann. Ziel der Cleantech-Konfere
 nz ist es\, Wege zur Unterstützung der europäischen Herstellung von Clea
 ntech-Geräten und deren Komponenten zu diskutieren\, die Zusammenarbeit u
 nd den Wissensaustausch zu fördern und den Dialog zwischen den Beteiligte
 n zu erleichtern. Die Anmeldefrist für die Teilnahme vor Ort endet am 31.
  März 2024.
LOCATION:Charlemagne Gebäude/ Online
CREATED:20240320T152559
LAST-MODIFIED:20240320T155411
DTSTART;VALUE=DATE:20240411T000000
DTEND;VALUE=DATE:20240411T235959
UID:sn_964_date_0@logic-works.net
END:VEVENT
END:VCALENDAR