BEGIN:VCALENDAR
METHOD:PUBLISH
PRODID:-//LogicWorks GmbH//NONSGML Contentory//EN
VERSION:2.0
CALSCALE:GREGORIAN
X-MS-OLK-FORCEINSPECTOROPEN:TRUE
BEGIN:VEVENT
DTSTAMP:20260423T010729Z
SUMMARY:Circular Economy im Fokus 2025 – Einführung in die Circular Economy
DESCRIPTION:Erhalten Sie neue Einblicke in die Welt der Circular Economy! In der dreit
 eiligen Online-Veranstaltungsreihe „Circular Economy im Fokus 2025“ am
  10.\, 15. und 17. Juli präsentieren Ihnen die drei Nationalen Kontaktste
 llen Digitale und Industrielle Technologien (DIT)\, Klima\, Energie\, Mobi
 lität (KEM) sowie Bioökonomie & Umwelt (B&U) aktuelle Strategien\, Förd
 ermöglichkeiten und Entwicklungen auf europäischer Ebene.
LOCATION:Online
CREATED:20250522T160737
LAST-MODIFIED:20250522T165245
DTSTART;VALUE=DATE:20250710T100000
DTEND;VALUE=DATE:20250710T120000
UID:sn_1579_date_0@logic-works.net
END:VEVENT
END:VCALENDAR