BEGIN:VCALENDAR
METHOD:PUBLISH
PRODID:-//LogicWorks GmbH//NONSGML Contentory//EN
VERSION:2.0
CALSCALE:GREGORIAN
X-MS-OLK-FORCEINSPECTOROPEN:TRUE
BEGIN:VEVENT
DTSTAMP:20260423T122732Z
SUMMARY:Circular Economy im Fokus 2025 – Fördermöglichkeiten in Horizont Europ
 a
DESCRIPTION:Erhalten Sie neue Einblicke in die Welt der Circular Economy! In der dreit
 eiligen Online-Veranstaltungsreihe „Circular Economy im Fokus 2025“ am
  10.\, 15. und 17. Juli präsentieren Ihnen die drei Nationalen Kontaktste
 llen Digitale und Industrielle Technologien (DIT)\, Klima\, Energie\, Mobi
 lität (KEM) sowie Bioökonomie & Umwelt (B&U) aktuelle Strategien\, Förd
 ermöglichkeiten und Entwicklungen auf europäischer Ebene.
LOCATION:Online
CREATED:20250522T161133
LAST-MODIFIED:20250522T165313
DTSTART;VALUE=DATE:20250715T100000
DTEND;VALUE=DATE:20250715T120000
UID:sn_1581_date_0@logic-works.net
END:VEVENT
END:VCALENDAR