BEGIN:VCALENDAR
METHOD:PUBLISH
PRODID:-//LogicWorks GmbH//NONSGML Contentory//EN
VERSION:2.0
CALSCALE:GREGORIAN
X-MS-OLK-FORCEINSPECTOROPEN:TRUE
BEGIN:VEVENT
DTSTAMP:20260423T121534Z
SUMMARY:Central European Technology Forum 2024
DESCRIPTION:Das 4. MitteleuropÃ¤ische Technologieforum - CETEF'24 wird am 18. und 19. 
 November 2024 in Krakau in Zusammenarbeit mit der AGH University of Scienc
 e and Technology\, der Jagiellonen-UniversitÃ¤t und dem PrÃ¤sidenten der S
 tadt Krakau stattfinden. Es wird die persÃ¶nliche Teilnahme von Frau Ilian
 a Ivanova - EU-Kommissarin fÃ¼r Innovation\, Forschung\, Kultur\, Bildung 
 und Jugend - und Herrn Cristian-Silviu Bu?oi - Vorsitzender des Ausschusse
 s fÃ¼r Industrie\, Forschung und Energie des EuropÃ¤ischen Parlaments â€“ 
 erwartet\, sowie von Vertretern staatlicher Einrichtungen und herausragend
 en Vertretern von Wissenschaft und Industrie aus 16 mitteleuropÃ¤ischen LÃ
 ¤ndern. Es wird erwartet\, dass auf dem Forum neue Ideen und VorschlÃ¤ge z
 ur Umsetzung der europÃ¤ischen Wissenschafts- und Technologieagenda fÃ¼r 2
 025-2030 vorgestellt werden.
LOCATION:Jagiellonian University - Auditorium Maximum
CREATED:20240320T151439
LAST-MODIFIED:20240411T143042
DTSTART;VALUE=DATE:20241118T090000
DTEND;VALUE=DATE:20241119T180000
UID:sn_963_date_0@logic-works.net
END:VEVENT
END:VCALENDAR