BEGIN:VCALENDAR
METHOD:PUBLISH
PRODID:-//LogicWorks GmbH//NONSGML Contentory//EN
VERSION:2.0
CALSCALE:GREGORIAN
X-MS-OLK-FORCEINSPECTOROPEN:TRUE
BEGIN:VEVENT
DTSTAMP:20260423T134437Z
SUMMARY:Brokerage Event and Cooperation Platform focusing on Horizon Europe Cluste
 r 4
DESCRIPTION:Die Istanbul Chamber of Industry organisiert in Kooperation mit dem Enterp
 rise Europe Network ein internationales Brokerage Event zum Horizont Europ
 a Cluster 4 Arbeitsprogramm für die Jahre 2023 und 2024.
LOCATION:Online
CREATED:20230118T093937
LAST-MODIFIED:20230118T093937
DTSTART;VALUE=DATE:20230209T100000
DTEND;VALUE=DATE:20230210T170000
UID:sn_690_date_0@logic-works.net
END:VEVENT
END:VCALENDAR