BEGIN:VCALENDAR
METHOD:PUBLISH
PRODID:-//LogicWorks GmbH//NONSGML Contentory//EN
VERSION:2.0
CALSCALE:GREGORIAN
X-MS-OLK-FORCEINSPECTOROPEN:TRUE
BEGIN:VEVENT
DTSTAMP:20260423T012615Z
SUMMARY:EU Brokerage Event on industrial KETs in Horizon Europe
DESCRIPTION:Die Nationalen Kontaktstellen aus Deutschland und Frankreich sowie das Ent
 erprise Europe Network (EEN) Rheinland-Pfalz / Saarland und das Enterprise
  Europe Network Grand Est Plus (Grand E-Nov) organisieren in diesem Jahr d
 as „EU Brokerage Event on industrial Key Enabling Technologies (KETs) in
  Horizon Europe“.
LOCATION:Online
CREATED:20210322T105819
LAST-MODIFIED:20210322T105819
DTSTART;VALUE=DATE:20210511T000000
DTEND;VALUE=DATE:20210511T235959
UID:sn_197_date_0@logic-works.net
END:VEVENT
END:VCALENDAR