BEGIN:VCALENDAR
METHOD:PUBLISH
PRODID:-//LogicWorks GmbH//NONSGML Contentory//EN
VERSION:2.0
CALSCALE:GREGORIAN
X-MS-OLK-FORCEINSPECTOROPEN:TRUE
BEGIN:VEVENT
DTSTAMP:20260423T164039Z
SUMMARY:Horizont Europa Info-Day und Brokerage Event zu ziviler Sicherheit für di
 e Gesellschaft im Cluster 3
DESCRIPTION:Die Veranstaltung wird vom Netzwerk der nationalen Kontaktstellen (NCCs) f
 ür Sicherheitsforschung – SEREN5 – in enger Zusammenarbeit mit der Ge
 neraldirektion Migration und Inneres der Europäischen Kommission sowie de
 r Europäischen Exekutivagentur für Forschung organisiert.
LOCATION:Thon Hotel Brussels City Centre
CREATED:20250513T151505
LAST-MODIFIED:20250513T171249
DTSTART;VALUE=DATE:20250611T093000
DTEND;VALUE=DATE:20250612T160000
UID:sn_1565_date_0@logic-works.net
END:VEVENT
END:VCALENDAR