BEGIN:VCALENDAR
METHOD:PUBLISH
PRODID:-//LogicWorks GmbH//NONSGML Contentory//EN
VERSION:2.0
CALSCALE:GREGORIAN
X-MS-OLK-FORCEINSPECTOROPEN:TRUE
BEGIN:VEVENT
DTSTAMP:20260423T121616Z
SUMMARY:Brokerage Event - Horizon Europe funding for Virtual Worlds
DESCRIPTION:Die Europäische Kommission organisiert am 20.05.2025 eine Online-Brokerag
 e-Veranstaltung\, um die Teilnahme an den kommenden Förderaufrufen zum Th
 ema Virtuelle Welten im Rahmen des Horizon Europe Work Programme 2025 zu e
 rleichtern.
LOCATION:online
CREATED:20250509T145705
LAST-MODIFIED:20250509T155340
DTSTART;VALUE=DATE:20250520T100000
DTEND;VALUE=DATE:20250520T123000
UID:sn_1563_date_0@logic-works.net
END:VEVENT
END:VCALENDAR