BEGIN:VCALENDAR
METHOD:PUBLISH
PRODID:-//LogicWorks GmbH//NONSGML Contentory//EN
VERSION:2.0
CALSCALE:GREGORIAN
X-MS-OLK-FORCEINSPECTOROPEN:TRUE
BEGIN:VEVENT
DTSTAMP:20260422T135747Z
SUMMARY:BMBF Auftakt-Veranstaltung "Klimaforschung in Horizont Europa - Tranformat
 ion für ein CO2 - neutrales Europa bis 2050
DESCRIPTION:Die Auftakt-Veranstaltung beleuchtet die Bandbreite klimabezogener Forschu
 ng und Innovation in Horizont Europa und wie die verschiedenen Akteure\, I
 nstrumente und Programme zusammenwirken können.
LOCATION:Online
CREATED:20210504T121138
LAST-MODIFIED:20210504T121526
DTSTART;VALUE=DATE:20210518T093000
DTEND;VALUE=DATE:20210518T120000
UID:sn_222_date_0@logic-works.net
END:VEVENT
END:VCALENDAR