BEGIN:VCALENDAR
METHOD:PUBLISH
PRODID:-//LogicWorks GmbH//NONSGML Contentory//EN
VERSION:2.0
CALSCALE:GREGORIAN
X-MS-OLK-FORCEINSPECTOROPEN:TRUE
BEGIN:VEVENT
DTSTAMP:20260423T135318Z
SUMMARY:Berichte und Audits in Horizont Europa
DESCRIPTION:In dieser Online-Veranstaltung informiert die Nationale Kontaktstelle Rec
 ht und Finanzen über die verschiedenen Teile des Berichtswesens in Horizo
 nt-Europa-Projekten und über Audits.
LOCATION:Online
CREATED:20230815T114711
LAST-MODIFIED:20230815T114711
DTSTART;VALUE=DATE:20230913T100000
DTEND;VALUE=DATE:20230913T120000
UID:sn_811_date_0@logic-works.net
END:VEVENT
END:VCALENDAR