BEGIN:VCALENDAR
METHOD:PUBLISH
PRODID:-//LogicWorks GmbH//NONSGML Contentory//EN
VERSION:2.0
CALSCALE:GREGORIAN
X-MS-OLK-FORCEINSPECTOROPEN:TRUE
BEGIN:VEVENT
DTSTAMP:20260423T165543Z
SUMMARY:Informationstag zu den Ausschreibungen in Horizont Europa Cluster 4 – De
 stination 3
DESCRIPTION:BDVA/DAIRO organisiert gemeinsam mit der Europäischen Kommission einen In
 formationstag zu den Ausschreibungen der „Destination 3“ im „Cluster
  4“ in Horizont Europa.
LOCATION:online
CREATED:20210701T171919
LAST-MODIFIED:20210702T072155
DTSTART;VALUE=DATE:20210708T100000
DTEND;VALUE=DATE:20210708T120000
UID:sn_251_date_0@logic-works.net
END:VEVENT
END:VCALENDAR