BEGIN:VCALENDAR
METHOD:PUBLISH
PRODID:-//LogicWorks GmbH//NONSGML Contentory//EN
VERSION:2.0
CALSCALE:GREGORIAN
X-MS-OLK-FORCEINSPECTOROPEN:TRUE
BEGIN:VEVENT
DTSTAMP:20260423T140249Z
SUMMARY:Next Destination: Horizon Europe – Förderungen für Digitale Technologi
 en und Mobilität
DESCRIPTION:Im Rahmen der Online-Veranstaltungsreihe „Next Destination: Horizon Euro
 pe“ lädt die BayFOR ein\, sich frühzeitig über Horizont Europa zu inf
 ormieren. \r\nDie NKS DIT stellt auf dieser Veranstaltung die Themen Inf
 ormations- und Kommunikationstechnologien (IKT)\, Künstliche Intelligenz\
 , Robotik\, Material/Werkstoffe und Prozessindustrie vor.\r\nDie Veranstal
 tung ist leider bereits ausgebucht.
LOCATION:online
CREATED:20210308T155047
LAST-MODIFIED:20210309T100022
DTSTART;VALUE=DATE:20210318T094500
DTEND;VALUE=DATE:20210318T170000
UID:sn_189_date_0@logic-works.net
END:VEVENT
END:VCALENDAR