BEGIN:VCALENDAR
METHOD:PUBLISH
PRODID:-//LogicWorks GmbH//NONSGML Contentory//EN
VERSION:2.0
CALSCALE:GREGORIAN
X-MS-OLK-FORCEINSPECTOROPEN:TRUE
BEGIN:VEVENT
DTSTAMP:20260422T193743Z
SUMMARY:Battery Materials Conference 2026
DESCRIPTION:Diese Konferenz bietet Einblicke in die neuesten Entwicklungen in den Bere
 ichen Materialinnovation\, Nachhaltigkeit und Batterietechnologie der näc
 hsten Generation.
LOCATION:Elite Marina Tower
CREATED:20251009T151317
LAST-MODIFIED:20251218T132809
DTSTART;VALUE=DATE:20260527T083000
DTEND;VALUE=DATE:20260528T160000
UID:sn_1829_date_0@logic-works.net
END:VEVENT
END:VCALENDAR