BEGIN:VCALENDAR
METHOD:PUBLISH
PRODID:-//LogicWorks GmbH//NONSGML Contentory//EN
VERSION:2.0
CALSCALE:GREGORIAN
X-MS-OLK-FORCEINSPECTOROPEN:TRUE
BEGIN:VEVENT
DTSTAMP:20260423T164833Z
SUMMARY:Battery Innovation Days
DESCRIPTION:Am 14. und 15. November 2023 findet die dritte Ausgabe der „Battery Inno
 vation Days“ in hybrider Form statt.
LOCATION:Centre de congrès Cité Mondiale/ Online
CREATED:20231023T082406
LAST-MODIFIED:20231023T084728
DTSTART;VALUE=DATE:20231114T093000
DTEND;VALUE=DATE:20231115T182900
UID:sn_859_date_0@logic-works.net
END:VEVENT
END:VCALENDAR