BEGIN:VCALENDAR
METHOD:PUBLISH
PRODID:-//LogicWorks GmbH//NONSGML Contentory//EN
VERSION:2.0
CALSCALE:GREGORIAN
X-MS-OLK-FORCEINSPECTOROPEN:TRUE
BEGIN:VEVENT
DTSTAMP:20260423T134621Z
SUMMARY:Battery Innovation Days 2025
DESCRIPTION:Clerens richtet im Auftrag der Europäischen Batteriecommunity die Battery
  Innovation Days 2025\, in Graz aus.
LOCATION:Graz
CREATED:20250624T110406
LAST-MODIFIED:20250624T110439
DTSTART;VALUE=DATE:20251202T000000
DTEND;VALUE=DATE:20251203T235959
UID:sn_1637_date_0@logic-works.net
END:VEVENT
END:VCALENDAR