BEGIN:VCALENDAR
METHOD:PUBLISH
PRODID:-//LogicWorks GmbH//NONSGML Contentory//EN
VERSION:2.0
CALSCALE:GREGORIAN
X-MS-OLK-FORCEINSPECTOROPEN:TRUE
BEGIN:VEVENT
DTSTAMP:20260423T121617Z
SUMMARY:Informationsveranstaltung: Ausschreibungen zu "Next Generation Internet" i
 n Horizont Europa
DESCRIPTION:Die Europäische Kommission veranstaltet am 26. Januar von 14:00 bis 16:00
  Uhr ein Online-Webinar zu Ausschreibungen in Horizont Europa für Themen 
 des Internets der nächsten Generation.
LOCATION:online
CREATED:20230117T131231
LAST-MODIFIED:20230117T155714
DTSTART;VALUE=DATE:20230126T140000
DTEND;VALUE=DATE:20230126T160000
UID:sn_688_date_0@logic-works.net
END:VEVENT
END:VCALENDAR