BEGIN:VCALENDAR
METHOD:PUBLISH
PRODID:-//LogicWorks GmbH//NONSGML Contentory//EN
VERSION:2.0
CALSCALE:GREGORIAN
X-MS-OLK-FORCEINSPECTOROPEN:TRUE
BEGIN:VEVENT
DTSTAMP:20260423T182722Z
SUMMARY:Auftaktveranstaltung der Partnerschaft zu KI\, Daten und Robotik 
DESCRIPTION:Auftaktveranstaltung der Partnerschaft zu KI\, Daten und Robotik zwischen
  der Europäischen Kommission und ADRA (AI\, Data and Robotics Association
 )
LOCATION:online
CREATED:20211118T211528
LAST-MODIFIED:20211118T211528
DTSTART;VALUE=DATE:20211125T100000
DTEND;VALUE=DATE:20211125T121500
UID:sn_339_date_0@logic-works.net
END:VEVENT
END:VCALENDAR