BEGIN:VCALENDAR
METHOD:PUBLISH
PRODID:-//LogicWorks GmbH//NONSGML Contentory//EN
VERSION:2.0
CALSCALE:GREGORIAN
X-MS-OLK-FORCEINSPECTOROPEN:TRUE
BEGIN:VEVENT
DTSTAMP:20260423T170005Z
SUMMARY:Auftaktveranstaltung "Horizont Europa"
DESCRIPTION:Gemeinsam vom EU-Büro der Freiburg Research Services und dem EU-Referat 
 im Forschungsdekanat der Medizinischen Fakultät der Albert-Ludwigs-Univer
 sität Freiburg sowie dem Enterprise Europe Network der IHK Südlicher Obe
 rrhein in Kooperation mit verschiedenen Nationalen Kontaktstellen\, unter 
 anderem auch die NKS DIT\,  wird diese Auftaktveranstaltung als Online-Ve
 ranstaltung durchgeführt.
LOCATION:Online
CREATED:20201103T082511
LAST-MODIFIED:20210201T155509
DTSTART;VALUE=DATE:20201126T000000
DTEND;VALUE=DATE:20201126T235959
UID:sn_109_date_0@logic-works.net
END:VEVENT
END:VCALENDAR