BEGIN:VCALENDAR
METHOD:PUBLISH
PRODID:-//LogicWorks GmbH//NONSGML Contentory//EN
VERSION:2.0
CALSCALE:GREGORIAN
X-MS-OLK-FORCEINSPECTOROPEN:TRUE
BEGIN:VEVENT
DTSTAMP:20260423T195143Z
SUMMARY:Auftaktveranstaltung zu Horizont Europa\, Mecklenburg-Vorpommern
DESCRIPTION:Eine Veranstaltung des EEN M-V für Unternehmen und Forschungseinrichtunge
 n aus Mecklenburg-Vorpommern.
LOCATION:online
CREATED:20210205T165629
LAST-MODIFIED:20210209T110034
DTSTART;VALUE=DATE:20210303T140000
DTEND;VALUE=DATE:20210303T170000
UID:sn_148_date_0@logic-works.net
END:VEVENT
END:VCALENDAR